BEGIN:VCALENDAR
VERSION:2.0
PRODID:spatie/icalendar-generator
DESCRIPTION:Events from West Yarmouth Congregational Church
X-WR-CALDESC:Events from West Yarmouth Congregational Church
REFRESH-INTERVAL;VALUE=DURATION:PT1440M
X-PUBLISHED-TTL:PT1440M
BEGIN:VTIMEZONE
TZID:America/New_York
BEGIN:STANDARD
DTSTART:20251102T020000Z
TZOFFSETFROM:-0400
TZOFFSETTO:-0500
END:STANDARD
BEGIN:DAYLIGHT
DTSTART:20260308T020000Z
TZOFFSETFROM:-0500
TZOFFSETTO:-0400
END:DAYLIGHT
END:VTIMEZONE
BEGIN:VTIMEZONE
TZID:UTC
BEGIN:STANDARD
DTSTART:20250730T030147Z
TZOFFSETFROM:+0000
TZOFFSETTO:+0000
END:STANDARD
END:VTIMEZONE
BEGIN:VEVENT
UID:354-344
DTSTAMP:20260426T030147Z
SUMMARY:Souper Bowl Sunday Collection (Cans of soup/$1 bills)
LOCATION:
ORGANIZER;CN=admin:MAILTO:csoule@comcast.net
DTSTART;TZID=America/New_York:20260208T094500
DTEND;TZID=America/New_York:20260208T104500
X-ALT-DESC;FMTTYPE=TEXT/HTML:
CATEGORIES:Church Events
URL;VALUE=URI:https://www.wyccucc.org/mc-events/souper-bowl-sunday-collecti
 on-cans-of-soup-1-bills-2/
METHOD:PUBLISH
END:VEVENT
END:VCALENDAR