BEGIN:VCALENDAR
VERSION:2.0
PRODID:spatie/icalendar-generator
DESCRIPTION:Events from West Yarmouth Congregational Church
X-WR-CALDESC:Events from West Yarmouth Congregational Church
REFRESH-INTERVAL;VALUE=DURATION:PT1440M
X-PUBLISHED-TTL:PT1440M
BEGIN:VTIMEZONE
TZID:America/New_York
BEGIN:STANDARD
DTSTART:20251102T020000Z
TZOFFSETFROM:-0400
TZOFFSETTO:-0500
END:STANDARD
BEGIN:DAYLIGHT
DTSTART:20260308T020000Z
TZOFFSETFROM:-0500
TZOFFSETTO:-0400
END:DAYLIGHT
END:VTIMEZONE
BEGIN:VTIMEZONE
TZID:UTC
BEGIN:STANDARD
DTSTART:20250729T234831Z
TZOFFSETFROM:+0000
TZOFFSETTO:+0000
END:STANDARD
END:VTIMEZONE
BEGIN:VEVENT
UID:382-369
DTSTAMP:20260425T234831Z
SUMMARY:Sunday Worship with Holy Communion (Church School)*
LOCATION:
ORGANIZER;CN=admin:MAILTO:csoule@comcast.net
DTSTART;TZID=America/New_York:20260301T100000
DTEND;TZID=America/New_York:20260301T110000
X-ALT-DESC;FMTTYPE=TEXT/HTML:<p>*  All services in the Sanctuary can be vie
 wed on live stream at wyccucc.org</p>\n
CATEGORIES:Church Events
URL;VALUE=URI:https://www.wyccucc.org/mc-events/sunday-worship-with-holy-co
 mmunion-church-school-6/
METHOD:PUBLISH
END:VEVENT
END:VCALENDAR