BEGIN:VCALENDAR
VERSION:2.0
PRODID:spatie/icalendar-generator
DESCRIPTION:Events from West Yarmouth Congregational Church
X-WR-CALDESC:Events from West Yarmouth Congregational Church
REFRESH-INTERVAL;VALUE=DURATION:PT1440M
X-PUBLISHED-TTL:PT1440M
BEGIN:VTIMEZONE
TZID:America/New_York
BEGIN:STANDARD
DTSTART:20251102T020000Z
TZOFFSETFROM:-0400
TZOFFSETTO:-0500
END:STANDARD
BEGIN:DAYLIGHT
DTSTART:20260308T020000Z
TZOFFSETFROM:-0500
TZOFFSETTO:-0400
END:DAYLIGHT
BEGIN:STANDARD
DTSTART:20261101T020000Z
TZOFFSETFROM:-0400
TZOFFSETTO:-0500
END:STANDARD
END:VTIMEZONE
BEGIN:VTIMEZONE
TZID:UTC
BEGIN:STANDARD
DTSTART:20250730T035357Z
TZOFFSETFROM:+0000
TZOFFSETTO:+0000
END:STANDARD
END:VTIMEZONE
BEGIN:VEVENT
UID:455-442
DTSTAMP:20260426T035357Z
SUMMARY:Pastor's Office Hours at Old King's Coffeehouse
LOCATION:
ORGANIZER;CN=admin:MAILTO:csoule@comcast.net
DTSTART;TZID=America/New_York:20260505T100000
DTEND;TZID=America/New_York:20260505T110000
X-ALT-DESC;FMTTYPE=TEXT/HTML:
CATEGORIES:Church Events
URL;VALUE=URI:https://www.wyccucc.org/mc-events/pastors-office-hours-at-old
 -kings-coffeehouse-2/
METHOD:PUBLISH
END:VEVENT
END:VCALENDAR