BEGIN:VCALENDAR
VERSION:2.0
PRODID:spatie/icalendar-generator
DESCRIPTION:Events from West Yarmouth Congregational Church
X-WR-CALDESC:Events from West Yarmouth Congregational Church
REFRESH-INTERVAL;VALUE=DURATION:PT1440M
X-PUBLISHED-TTL:PT1440M
BEGIN:VTIMEZONE
TZID:America/New_York
BEGIN:STANDARD
DTSTART:20251102T020000Z
TZOFFSETFROM:-0400
TZOFFSETTO:-0500
END:STANDARD
BEGIN:DAYLIGHT
DTSTART:20260308T020000Z
TZOFFSETFROM:-0500
TZOFFSETTO:-0400
END:DAYLIGHT
BEGIN:STANDARD
DTSTART:20261101T020000Z
TZOFFSETFROM:-0400
TZOFFSETTO:-0500
END:STANDARD
END:VTIMEZONE
BEGIN:VTIMEZONE
TZID:UTC
BEGIN:STANDARD
DTSTART:20250730T035137Z
TZOFFSETFROM:+0000
TZOFFSETTO:+0000
END:STANDARD
END:VTIMEZONE
BEGIN:VEVENT
UID:457-444
DTSTAMP:20260426T035137Z
SUMMARY:Mother's Day Breakfast sponsored by Men's Fellowship
LOCATION:
ORGANIZER;CN=admin:MAILTO:csoule@comcast.net
DTSTART;TZID=America/New_York:20260510T090000
DTEND;TZID=America/New_York:20260510T100000
X-ALT-DESC;FMTTYPE=TEXT/HTML:
CATEGORIES:Church Events
URL;VALUE=URI:https://www.wyccucc.org/mc-events/mothers-day-breakfast-spons
 ored-by-mens-fellowship-2/
METHOD:PUBLISH
END:VEVENT
END:VCALENDAR